BEGIN:VCALENDAR
VERSION:2.0
PRODID:icalendar-ruby
CALSCALE:GREGORIAN
METHOD:PUBLISH
BEGIN:VEVENT
DTSTAMP:20260422T235804Z
UID:5-406869@northcharleston.tithelysetup2.com
DTSTART:20260719T173000Z
DTEND:20260719T183000Z
CLASS:PUBLIC
CREATED:20260421T112734
DESCRIPTION:Sunday Worship
LAST-MODIFIED:20260421T112734
LOCATION:
SUMMARY:Sunday Worship
URL;VALUE=URI:https://northcharleston.tithelysetup2.com/events/sunday-worsh
 ip/2026-07-19
END:VEVENT
END:VCALENDAR
